BEGIN:VCALENDAR
VERSION:2.0
PRODID:-//Suffolk Punch - ECPv6.15.20//NONSGML v1.0//EN
CALSCALE:GREGORIAN
METHOD:PUBLISH
X-WR-CALNAME:Suffolk Punch
X-ORIGINAL-URL:https://suffolkpunchbrewing.com
X-WR-CALDESC:Events for Suffolk Punch
REFRESH-INTERVAL;VALUE=DURATION:PT1H
X-Robots-Tag:noindex
X-PUBLISHED-TTL:PT1H
BEGIN:VTIMEZONE
TZID:UTC
BEGIN:STANDARD
TZOFFSETFROM:+0000
TZOFFSETTO:+0000
TZNAME:UTC
DTSTART:20250101T000000
END:STANDARD
END:VTIMEZONE
BEGIN:VEVENT
DTSTART;TZID=UTC:20260410T190000
DTEND;TZID=UTC:20260410T210000
DTSTAMP:20260420T101100
CREATED:20260325T143702Z
LAST-MODIFIED:20260408T181641Z
UID:1631-1775847600-1775854800@suffolkpunchbrewing.com
SUMMARY:Euphoria Trivia
DESCRIPTION:📅 Friday\, April 10\n⏰ 7:00 – 9:00 PM\n📍 Suffolk Punch Brewing – South End \nStep into the world of Euphoria for a night of trivia dedicated to the hit HBO series that captured audiences with its unforgettable characters\, intense drama\, and iconic soundtrack. \nFrom Rue and Jules to Cassie\, we’ll be testing your knowledge of the storylines\, characters\, quotes\, music\, and moments that made the show such a cultural phenomenon. \nWhether you’ve watched every episode multiple times or just love the show’s aesthetic and drama\, grab your friends and join us for a fun Friday night of themed trivia at Suffolk Punch! \nWe’re also serving a ONE night only themed cocktail  🌅🍍🍸 \nThe Euphoric Sunset is made with Deep Eddy Pineapple vodka\, cranberry juice\, and a peaflower floater for a bold\, colorful sip that fits the vibe perfectly. \n  \n🏆 Gift Cards for the Top 3 Teams:\n🥇 1st Place – $30\n🥈 2nd Place – $20\n🥉 3rd Place – $10 \n🎟️ Free to play\n👥 Teams encouraged — bring your trivia crew!
URL:https://suffolkpunchbrewing.com/event/euphoria-trivia/
LOCATION:Suffolk Punch – South End\, 2911 Griffith Street\, Charlotte\, NC\, 28203
ATTACH;FMTTYPE=image/jpeg:https://suffolkpunchbrewing.com/wp-content/uploads/2026/03/SP_South-End_Themed-Trivia_04-10_Header.jpg
END:VEVENT
BEGIN:VEVENT
DTSTART;TZID=UTC:20260413T190000
DTEND;TZID=UTC:20260413T210000
DTSTAMP:20260420T101100
CREATED:20260316T181821Z
LAST-MODIFIED:20260325T145205Z
UID:1624-1776106800-1776114000@suffolkpunchbrewing.com
SUMMARY:Birkdale Music Trivia + $10 Cold Brew Martinis ALL Day!
DESCRIPTION:General Music Trivia and $10 Cold Brew Martinis all night! Trivia starts at 7 PM on the rooftop!
URL:https://suffolkpunchbrewing.com/event/birkdale-music-trivia-10-cold-brew-martinis-all-day-6/
LOCATION:Suffolk Punch – Birkdale\, 16912 Birkdale Commons Pkwy\, Huntersville\, NC\, 28078\, United States
ATTACH;FMTTYPE=image/jpeg:https://suffolkpunchbrewing.com/wp-content/uploads/2026/02/SP_Birkdale_Music-Trivia_Website-Header.jpg
END:VEVENT
BEGIN:VEVENT
DTSTART;TZID=UTC:20260414T080000
DTEND;TZID=UTC:20260414T170000
DTSTAMP:20260420T101100
CREATED:20260414T170049Z
LAST-MODIFIED:20260414T170049Z
UID:1653-1776153600-1776186000@suffolkpunchbrewing.com
SUMMARY:Birkdale Music Trivia + $10 Cold Brew Martinis ALL Day!
DESCRIPTION:General Music Trivia and $10 Cold Brew Martinis all night! Trivia starts at 7 PM on the rooftop!
URL:https://suffolkpunchbrewing.com/event/birkdale-music-trivia-10-cold-brew-martinis-all-day-13/
LOCATION:Suffolk Punch – Birkdale\, 16912 Birkdale Commons Pkwy\, Huntersville\, NC\, 28078\, United States
ATTACH;FMTTYPE=image/jpeg:https://suffolkpunchbrewing.com/wp-content/uploads/2026/02/SP_Birkdale_Music-Trivia_Website-Header.jpg
END:VEVENT
BEGIN:VEVENT
DTSTART;TZID=UTC:20260414T080000
DTEND;TZID=UTC:20260414T170000
DTSTAMP:20260420T101100
CREATED:20260414T170316Z
LAST-MODIFIED:20260414T170316Z
UID:1656-1776153600-1776186000@suffolkpunchbrewing.com
SUMMARY:Birkdale Music Trivia + $10 Cold Brew Martinis ALL Day!
DESCRIPTION:General Music Trivia and $10 Cold Brew Martinis all night! Trivia starts at 7 PM on the rooftop!
URL:https://suffolkpunchbrewing.com/event/birkdale-music-trivia-10-cold-brew-martinis-all-day-16/
LOCATION:NC
ATTACH;FMTTYPE=image/jpeg:https://suffolkpunchbrewing.com/wp-content/uploads/2026/02/SP_Birkdale_Music-Trivia_Website-Header.jpg
END:VEVENT
BEGIN:VEVENT
DTSTART;TZID=UTC:20260417T180000
DTEND;TZID=UTC:20260417T200000
DTSTAMP:20260420T101100
CREATED:20260325T191831Z
LAST-MODIFIED:20260325T191831Z
UID:1642-1776448800-1776456000@suffolkpunchbrewing.com
SUMMARY:Live Under the Oaks @ Birkdale with Fat Fury
DESCRIPTION:Catch Fat Fury during Live Under the Oaks at Birkdale and enjoy the performance from our Birkdale taproom. With a specialty drink in hand and rooftop views overlooking the show\, it’s the perfect setup for an easy\, music-filled Friday night.
URL:https://suffolkpunchbrewing.com/event/live-under-the-oaks-birkdale-with-fat-fury/
LOCATION:Suffolk Punch – Birkdale\, 16912 Birkdale Commons Pkwy\, Huntersville\, NC\, 28078\, United States
ATTACH;FMTTYPE=image/png:https://suffolkpunchbrewing.com/wp-content/uploads/2026/03/Screen-Shot-2026-03-25-at-3.10.46-PM.png
END:VEVENT
BEGIN:VEVENT
DTSTART;TZID=UTC:20260417T190000
DTEND;TZID=UTC:20260417T210000
DTSTAMP:20260420T101100
CREATED:20260325T144315Z
LAST-MODIFIED:20260325T144315Z
UID:1632-1776452400-1776459600@suffolkpunchbrewing.com
SUMMARY:90s Pop Culture Trivia (Volume 2)
DESCRIPTION:90’s Pop Culture Trivia! Friday April 17th\, 7–9PM at Suffolk Punch South End. \n  \nFree to play + gift cards for the top 3 teams!
URL:https://suffolkpunchbrewing.com/event/90s-pop-culture-trivia-volume-2/
LOCATION:Suffolk Punch – South End\, 2911 Griffith Street\, Charlotte\, NC\, 28203
ATTACH;FMTTYPE=image/jpeg:https://suffolkpunchbrewing.com/wp-content/uploads/2026/03/SP_South-End_Themed-Trivia_04-17_Header.jpg
END:VEVENT
BEGIN:VEVENT
DTSTART;TZID=UTC:20260418T090000
DTEND;TZID=UTC:20260418T110000
DTSTAMP:20260420T101100
CREATED:20260401T181941Z
LAST-MODIFIED:20260401T181941Z
UID:1646-1776502800-1776510000@suffolkpunchbrewing.com
SUMMARY:Spring Princess Brunch @ SouthPark
DESCRIPTION:TICKETS HERE \nJoin us for a magical morning filled with delicious food\, fun activities\, and the chance to meet your favorite princesses at SPB SouthPark! \n\n\n\n\n🌸👑 A Spring Princess Brunch at Suffolk Punch SouthPark! 👑🌸\nSaturday\, April 19th | 9 AM – 11 AM | SPB SouthPark \nJoin us at Suffolk Punch Brewing SouthPark for a magical spring morning filled with princess fun\, brunch favorites\, and unforgettable family memories. \nDress in your most enchanting attire and get ready for a morning full of joy\, imagination\, and a little fairytale magic. ✨ \n👸 Princess Meet & Greet\nMeet your favorite princesses in their springtime best and capture magical photo moments together. \nPrincesses in Attendence: Rapunzel\, Cinderella\, Tiana\, Elsa\, Belle\, Muana\, Mulan & Anna \n🍳 Brunch Buffet Fit for Royalty\nEnjoy a delicious spread of breakfast favorites\, savory brunch dishes\, and sweet treats. Complimentary coffee and juices included. \n📖 Enchanted Storytime\nGather around as your storybook royalty shares charming tales full of magic\, kindness\, and adventure. \n🎁 Princess Goodie Bags\nTake home a festive bag filled with royal treasures and springtime surprises. \n📸 Special Photo Ops\nCapture sweet moments with your little ones and their favorite princesses throughout the event. \nTickets are on sale now! Secure your spot for this enchanting brunch in Charlotte before it sells out\, our last Princess Brunch sold out in just a few hours. \nFor questions or ticket info\, reach us at info.southpark@suffolkpunchbrewing.com \nLet the magic begin! 🌷✨
URL:https://suffolkpunchbrewing.com/event/spring-princess-brunch-southpark/
LOCATION:Suffolk Punch – SouthPark\, 4400 Sharon Rd.\, Unit G23D\, Charlotte\, NC\, 28211\, United States
ATTACH;FMTTYPE=image/jpeg:https://suffolkpunchbrewing.com/wp-content/uploads/2026/04/SP_Princess-Brunch-2026_Website-Header_2160x1080.jpg
END:VEVENT
BEGIN:VEVENT
DTSTART;TZID=UTC:20260420T190000
DTEND;TZID=UTC:20260420T210000
DTSTAMP:20260420T101100
CREATED:20260316T181924Z
LAST-MODIFIED:20260325T145118Z
UID:1625-1776711600-1776718800@suffolkpunchbrewing.com
SUMMARY:Birkdale Music Trivia + $10 Cold Brew Martinis ALL Day!
DESCRIPTION:General Music Trivia and $10 Cold Brew Martinis all night! Trivia starts at 7 PM on the rooftop!
URL:https://suffolkpunchbrewing.com/event/birkdale-music-trivia-10-cold-brew-martinis-all-day-7/
LOCATION:Suffolk Punch – Birkdale\, 16912 Birkdale Commons Pkwy\, Huntersville\, NC\, 28078\, United States
ATTACH;FMTTYPE=image/jpeg:https://suffolkpunchbrewing.com/wp-content/uploads/2026/02/SP_Birkdale_Music-Trivia_Website-Header.jpg
END:VEVENT
BEGIN:VEVENT
DTSTART;TZID=UTC:20260424T180000
DTEND;TZID=UTC:20260424T200000
DTSTAMP:20260420T101100
CREATED:20260325T191947Z
LAST-MODIFIED:20260325T191947Z
UID:1643-1777053600-1777060800@suffolkpunchbrewing.com
SUMMARY:Live Under the Oaks @ Birkdale with 9 Day Trip
DESCRIPTION:Join us at our Birkdale taproom for Live Under the Oaks with 9 Day Trip. We’ll have a specialty drink ready to go\, plus rooftop views that give you a great place to kick back and watch the show while enjoying your Friday night in BirkdaleVillage!
URL:https://suffolkpunchbrewing.com/event/live-under-the-oaks-birkdale-with-9-day-trip/
LOCATION:Suffolk Punch – Birkdale\, 16912 Birkdale Commons Pkwy\, Huntersville\, NC\, 28078\, United States
ATTACH;FMTTYPE=image/png:https://suffolkpunchbrewing.com/wp-content/uploads/2026/03/Screen-Shot-2026-03-25-at-3.10.46-PM.png
END:VEVENT
BEGIN:VEVENT
DTSTART;TZID=UTC:20260424T190000
DTEND;TZID=UTC:20260424T210000
DTSTAMP:20260420T101100
CREATED:20260325T144721Z
LAST-MODIFIED:20260325T144936Z
UID:1634-1777057200-1777064400@suffolkpunchbrewing.com
SUMMARY:Romantic Comedy Trivia (Volume 2)
DESCRIPTION:📅 Friday\, April 24\n⏰ 7:00 – 9:00 PM\n📍 Suffolk Punch Brewing – South End \nLove is back in the air — and so is Rom-Com Trivia Vol. 2! 💕 \nAfter the success of our first round\, we’re returning with even more questions covering your favorite romantic comedies. From iconic meet-cutes and unforgettable one-liners to classic love stories and modern favorites\, this night is all about laughs\, romance\, and pop-culture nostalgia. \nExpect questions pulled from fan-favorite rom-com movies\, memorable characters\, soundtrack moments\, and famous on-screen couples. \nWhether you’re a hopeless romantic\, a rom-com expert\, or just in it for the laughs\, grab your team and join us for a fun Friday night at Suffolk Punch! \n🏆 Gift Cards for the Top 3 Teams:\n🥇 1st Place – $30\n🥈 2nd Place – $20\n🥉 3rd Place – $10 \n🎟️ Free to play\n🍻 Great drinks + great vibes + great trivia
URL:https://suffolkpunchbrewing.com/event/romantic-comedy-trivia-volume-2/
LOCATION:Suffolk Punch – South End\, 2911 Griffith Street\, Charlotte\, NC\, 28203
ATTACH;FMTTYPE=image/jpeg:https://suffolkpunchbrewing.com/wp-content/uploads/2026/03/SP_South-End_Themed-Trivia_04-24_Header.jpg
END:VEVENT
BEGIN:VEVENT
DTSTART;TZID=UTC:20260427T190000
DTEND;TZID=UTC:20260427T210000
DTSTAMP:20260420T101100
CREATED:20260316T182013Z
LAST-MODIFIED:20260325T145049Z
UID:1626-1777316400-1777323600@suffolkpunchbrewing.com
SUMMARY:Birkdale Music Trivia + $10 Cold Brew Martinis ALL Day!
DESCRIPTION:General Music Trivia and $10 Cold Brew Martinis all night! Trivia starts at 7 PM on the rooftop!
URL:https://suffolkpunchbrewing.com/event/birkdale-music-trivia-10-cold-brew-martinis-all-day-8/
LOCATION:Suffolk Punch – Birkdale\, 16912 Birkdale Commons Pkwy\, Huntersville\, NC\, 28078\, United States
ATTACH;FMTTYPE=image/jpeg:https://suffolkpunchbrewing.com/wp-content/uploads/2026/02/SP_Birkdale_Music-Trivia_Website-Header.jpg
END:VEVENT
BEGIN:VEVENT
DTSTART;TZID=UTC:20260503T080000
DTEND;TZID=UTC:20260503T120000
DTSTAMP:20260420T101100
CREATED:20260415T184420Z
LAST-MODIFIED:20260415T184420Z
UID:1661-1777795200-1777809600@suffolkpunchbrewing.com
SUMMARY:Kids Workout With Smitty & Friends @ SouthPark
DESCRIPTION:REGISTER HERE \nThe Steve Smith Foundation\, in partnership with Simon – SouthPark Mall and Suffolk Punch Brewing – SouthPark\, we invite you to join us for an exciting day of football\, learning\, and growth! \nThis is your chance to train with athletes who’ve competed at the highest levels — from top high school programs to the pros. \nOur goal is to help every participant grow both as a young athlete and as a person. \nCheck-In: 8am \nCamp: 9am-11am; event will conclude by 12pm
URL:https://suffolkpunchbrewing.com/event/kids-workout-with-smitty-friends-southpark/
LOCATION:Suffolk Punch – SouthPark\, 4400 Sharon Rd.\, Unit G23D\, Charlotte\, NC\, 28211\, United States
ATTACH;FMTTYPE=image/png:https://suffolkpunchbrewing.com/wp-content/uploads/2026/04/Screen-Shot-2026-04-15-at-2.42.09-PM.png
END:VEVENT
BEGIN:VEVENT
DTSTART;TZID=UTC:20260504T190000
DTEND;TZID=UTC:20260504T210000
DTSTAMP:20260420T101100
CREATED:20260414T165713Z
LAST-MODIFIED:20260414T170736Z
UID:1649-1777921200-1777928400@suffolkpunchbrewing.com
SUMMARY:Birkdale Music Trivia + $10 Cold Brew Martinis ALL Day!
DESCRIPTION:General Music Trivia and $10 Cold Brew Martinis all night! Trivia starts at 7 PM on the rooftop!
URL:https://suffolkpunchbrewing.com/event/birkdale-music-trivia-10-cold-brew-martinis-all-day-9/
LOCATION:Suffolk Punch – Birkdale\, 16912 Birkdale Commons Pkwy\, Huntersville\, NC\, 28078\, United States
ATTACH;FMTTYPE=image/jpeg:https://suffolkpunchbrewing.com/wp-content/uploads/2026/02/SP_Birkdale_Music-Trivia_Website-Header.jpg
END:VEVENT
BEGIN:VEVENT
DTSTART;TZID=UTC:20260511T190000
DTEND;TZID=UTC:20260511T210000
DTSTAMP:20260420T101100
CREATED:20260414T165814Z
LAST-MODIFIED:20260414T165814Z
UID:1650-1778526000-1778533200@suffolkpunchbrewing.com
SUMMARY:Birkdale Music Trivia + $10 Cold Brew Martinis ALL Day!
DESCRIPTION:General Music Trivia and $10 Cold Brew Martinis all night! Trivia starts at 7 PM on the rooftop!
URL:https://suffolkpunchbrewing.com/event/birkdale-music-trivia-10-cold-brew-martinis-all-day-10/
LOCATION:Suffolk Punch – Birkdale\, 16912 Birkdale Commons Pkwy\, Huntersville\, NC\, 28078\, United States
ATTACH;FMTTYPE=image/jpeg:https://suffolkpunchbrewing.com/wp-content/uploads/2026/02/SP_Birkdale_Music-Trivia_Website-Header.jpg
END:VEVENT
BEGIN:VEVENT
DTSTART;TZID=UTC:20260518T190000
DTEND;TZID=UTC:20260518T210000
DTSTAMP:20260420T101100
CREATED:20260414T165911Z
LAST-MODIFIED:20260414T165911Z
UID:1651-1779130800-1779138000@suffolkpunchbrewing.com
SUMMARY:Birkdale Music Trivia + $10 Cold Brew Martinis ALL Day!
DESCRIPTION:General Music Trivia and $10 Cold Brew Martinis all night! Trivia starts at 7 PM on the rooftop!
URL:https://suffolkpunchbrewing.com/event/birkdale-music-trivia-10-cold-brew-martinis-all-day-11/
LOCATION:Suffolk Punch – Birkdale\, 16912 Birkdale Commons Pkwy\, Huntersville\, NC\, 28078\, United States
ATTACH;FMTTYPE=image/jpeg:https://suffolkpunchbrewing.com/wp-content/uploads/2026/02/SP_Birkdale_Music-Trivia_Website-Header.jpg
END:VEVENT
BEGIN:VEVENT
DTSTART;TZID=UTC:20260525T190000
DTEND;TZID=UTC:20260525T210000
DTSTAMP:20260420T101100
CREATED:20260414T170009Z
LAST-MODIFIED:20260414T170009Z
UID:1652-1779735600-1779742800@suffolkpunchbrewing.com
SUMMARY:Birkdale Music Trivia + $10 Cold Brew Martinis ALL Day!
DESCRIPTION:General Music Trivia and $10 Cold Brew Martinis all night! Trivia starts at 7 PM on the rooftop!
URL:https://suffolkpunchbrewing.com/event/birkdale-music-trivia-10-cold-brew-martinis-all-day-12/
LOCATION:Suffolk Punch – Birkdale\, 16912 Birkdale Commons Pkwy\, Huntersville\, NC\, 28078\, United States
ATTACH;FMTTYPE=image/jpeg:https://suffolkpunchbrewing.com/wp-content/uploads/2026/02/SP_Birkdale_Music-Trivia_Website-Header.jpg
END:VEVENT
BEGIN:VEVENT
DTSTART;TZID=UTC:20260601T190000
DTEND;TZID=UTC:20260601T210000
DTSTAMP:20260420T101100
CREATED:20260414T170203Z
LAST-MODIFIED:20260414T170203Z
UID:1654-1780340400-1780347600@suffolkpunchbrewing.com
SUMMARY:Birkdale Music Trivia + $10 Cold Brew Martinis ALL Day!
DESCRIPTION:General Music Trivia and $10 Cold Brew Martinis all night! Trivia starts at 7 PM on the rooftop!
URL:https://suffolkpunchbrewing.com/event/birkdale-music-trivia-10-cold-brew-martinis-all-day-14/
LOCATION:Suffolk Punch – Birkdale\, 16912 Birkdale Commons Pkwy\, Huntersville\, NC\, 28078\, United States
ATTACH;FMTTYPE=image/jpeg:https://suffolkpunchbrewing.com/wp-content/uploads/2026/02/SP_Birkdale_Music-Trivia_Website-Header.jpg
END:VEVENT
BEGIN:VEVENT
DTSTART;TZID=UTC:20260608T190000
DTEND;TZID=UTC:20260608T210000
DTSTAMP:20260420T101100
CREATED:20260414T170243Z
LAST-MODIFIED:20260414T170243Z
UID:1655-1780945200-1780952400@suffolkpunchbrewing.com
SUMMARY:Birkdale Music Trivia + $10 Cold Brew Martinis ALL Day!
DESCRIPTION:General Music Trivia and $10 Cold Brew Martinis all night! Trivia starts at 7 PM on the rooftop!
URL:https://suffolkpunchbrewing.com/event/birkdale-music-trivia-10-cold-brew-martinis-all-day-15/
LOCATION:Suffolk Punch – Birkdale\, 16912 Birkdale Commons Pkwy\, Huntersville\, NC\, 28078\, United States
ATTACH;FMTTYPE=image/jpeg:https://suffolkpunchbrewing.com/wp-content/uploads/2026/02/SP_Birkdale_Music-Trivia_Website-Header.jpg
END:VEVENT
BEGIN:VEVENT
DTSTART;TZID=UTC:20260615T190000
DTEND;TZID=UTC:20260615T210000
DTSTAMP:20260420T101100
CREATED:20260414T170413Z
LAST-MODIFIED:20260414T170413Z
UID:1657-1781550000-1781557200@suffolkpunchbrewing.com
SUMMARY:Birkdale Music Trivia + $10 Cold Brew Martinis ALL Day!
DESCRIPTION:General Music Trivia and $10 Cold Brew Martinis all night! Trivia starts at 7 PM on the rooftop!
URL:https://suffolkpunchbrewing.com/event/birkdale-music-trivia-10-cold-brew-martinis-all-day-17/
LOCATION:Suffolk Punch – Birkdale\, 16912 Birkdale Commons Pkwy\, Huntersville\, NC\, 28078\, United States
ATTACH;FMTTYPE=image/jpeg:https://suffolkpunchbrewing.com/wp-content/uploads/2026/02/SP_Birkdale_Music-Trivia_Website-Header.jpg
END:VEVENT
BEGIN:VEVENT
DTSTART;TZID=UTC:20260622T190000
DTEND;TZID=UTC:20260622T210000
DTSTAMP:20260420T101100
CREATED:20260414T170510Z
LAST-MODIFIED:20260414T170510Z
UID:1658-1782154800-1782162000@suffolkpunchbrewing.com
SUMMARY:Birkdale Music Trivia + $10 Cold Brew Martinis ALL Day!
DESCRIPTION:General Music Trivia and $10 Cold Brew Martinis all night! Trivia starts at 7 PM on the rooftop!
URL:https://suffolkpunchbrewing.com/event/birkdale-music-trivia-10-cold-brew-martinis-all-day-18/
LOCATION:Suffolk Punch – Birkdale\, 16912 Birkdale Commons Pkwy\, Huntersville\, NC\, 28078\, United States
ATTACH;FMTTYPE=image/jpeg:https://suffolkpunchbrewing.com/wp-content/uploads/2026/02/SP_Birkdale_Music-Trivia_Website-Header.jpg
END:VEVENT
BEGIN:VEVENT
DTSTART;TZID=UTC:20260629T190000
DTEND;TZID=UTC:20260629T210000
DTSTAMP:20260420T101100
CREATED:20260414T170609Z
LAST-MODIFIED:20260414T170609Z
UID:1659-1782759600-1782766800@suffolkpunchbrewing.com
SUMMARY:Birkdale Music Trivia + $10 Cold Brew Martinis ALL Day!
DESCRIPTION:General Music Trivia and $10 Cold Brew Martinis all night! Trivia starts at 7 PM on the rooftop!
URL:https://suffolkpunchbrewing.com/event/birkdale-music-trivia-10-cold-brew-martinis-all-day-19/
LOCATION:Suffolk Punch – Birkdale\, 16912 Birkdale Commons Pkwy\, Huntersville\, NC\, 28078\, United States
ATTACH;FMTTYPE=image/jpeg:https://suffolkpunchbrewing.com/wp-content/uploads/2026/02/SP_Birkdale_Music-Trivia_Website-Header.jpg
END:VEVENT
BEGIN:VEVENT
DTSTART;TZID=UTC:20260629T190000
DTEND;TZID=UTC:20260629T210000
DTSTAMP:20260420T101100
CREATED:20260414T170655Z
LAST-MODIFIED:20260414T170655Z
UID:1660-1782759600-1782766800@suffolkpunchbrewing.com
SUMMARY:Birkdale Music Trivia + $10 Cold Brew Martinis ALL Day!
DESCRIPTION:General Music Trivia and $10 Cold Brew Martinis all night! Trivia starts at 7 PM on the rooftop!
URL:https://suffolkpunchbrewing.com/event/birkdale-music-trivia-10-cold-brew-martinis-all-day-20/
LOCATION:Suffolk Punch – Birkdale\, 16912 Birkdale Commons Pkwy\, Huntersville\, NC\, 28078\, United States
ATTACH;FMTTYPE=image/jpeg:https://suffolkpunchbrewing.com/wp-content/uploads/2026/02/SP_Birkdale_Music-Trivia_Website-Header.jpg
END:VEVENT
END:VCALENDAR